BEGIN:VCALENDAR
VERSION:2.0
PRODID:-//Libriamoci La Spezia - ECPv6.8.0//NONSGML v1.0//EN
CALSCALE:GREGORIAN
METHOD:PUBLISH
X-WR-CALNAME:Libriamoci La Spezia
X-ORIGINAL-URL:https://libriamocisp.it
X-WR-CALDESC:Eventi per Libriamoci La Spezia
REFRESH-INTERVAL;VALUE=DURATION:PT1H
X-Robots-Tag:noindex
X-PUBLISHED-TTL:PT1H
BEGIN:VTIMEZONE
TZID:Europe/Rome
BEGIN:DAYLIGHT
TZOFFSETFROM:+0100
TZOFFSETTO:+0200
TZNAME:CEST
DTSTART:20170326T010000
END:DAYLIGHT
BEGIN:STANDARD
TZOFFSETFROM:+0200
TZOFFSETTO:+0100
TZNAME:CET
DTSTART:20171029T010000
END:STANDARD
END:VTIMEZONE
BEGIN:VEVENT
DTSTART;TZID=Europe/Rome:20171007T103000
DTEND;TZID=Europe/Rome:20171007T120000
DTSTAMP:20260421T131623
CREATED:20170829T090115Z
LAST-MODIFIED:20170829T090115Z
UID:5608-1507372200-1507377600@libriamocisp.it
SUMMARY:Proiezione del film "Storia di una ladra di libri"\, di Brian Percival
DESCRIPTION:Proiezione del film “Storia di una ladra di libri”\, di Brian Percival\, tratto dall’omonimo libro di Markus Zusak. Il film è ambientato nella Germania della Seconda Guerra Mondiale. Protagonista è Liesel (Sophie Nélisse)\, una vivace e coraggiosa ragazzina affidata dalla madre incapace di mantenerla\, ad Hans Hubermann (Geoffrey Rush)\, un uomo buono e gentile\, e alla sua irritabile moglie Rosa (Emily Watson). Scossa dalla tragica morte del fratellino\, avvenuta solo pochi giorni prima\, e intimidita dai “genitori” appena conosciuti\, Liesel fatica ad adattarsi sia a casa che a scuola\, dove viene derisa dai compagni di classe perché non sa leggere. Con grande determinazione\, è tuttavia decisa a cambiare la situazione e trova un valido alleato nel suo papà adottivo che\, nel corso di lunghe notti insonni\, le insegna a leggere il suo primo libro\, “Il manuale del becchino”\, rubato al funerale del fratello. L’amore di Liesel per la lettura e il crescente attaccamento verso la sua nuova famiglia si rafforzano grazie all’amicizia con un ebreo di nome Max (Ben Schnetzer) che i suoi genitori nascondono nello scantinato e che condivide con lei la passione per i libri incoraggiandola ad approfondire le sue capacità di osservazione. \nPer gli studenti del triennio delle scuole superiori
URL:https://libriamocisp.it/evento/proiezione-del-film-storia-di-una-ladra-di-libri-di-brian-percival-2/
CATEGORIES:Libriamoci 2017
ATTACH;FMTTYPE=image/jpeg:https://libriamocisp.it/wp-content/uploads/2017/08/50019.jpg
END:VEVENT
END:VCALENDAR