BEGIN:VCALENDAR
VERSION:2.0
PRODID:-//Libriamoci La Spezia - ECPv6.8.0//NONSGML v1.0//EN
CALSCALE:GREGORIAN
METHOD:PUBLISH
X-WR-CALNAME:Libriamoci La Spezia
X-ORIGINAL-URL:https://libriamocisp.it
X-WR-CALDESC:Eventi per Libriamoci La Spezia
REFRESH-INTERVAL;VALUE=DURATION:PT1H
X-Robots-Tag:noindex
X-PUBLISHED-TTL:PT1H
BEGIN:VTIMEZONE
TZID:Europe/Rome
BEGIN:DAYLIGHT
TZOFFSETFROM:+0100
TZOFFSETTO:+0200
TZNAME:CEST
DTSTART:20170326T010000
END:DAYLIGHT
BEGIN:STANDARD
TZOFFSETFROM:+0200
TZOFFSETTO:+0100
TZNAME:CET
DTSTART:20171029T010000
END:STANDARD
END:VTIMEZONE
BEGIN:VEVENT
DTSTART;TZID=Europe/Rome:20171006T103000
DTEND;TZID=Europe/Rome:20171006T113000
DTSTAMP:20260417T131024
CREATED:20170829T071912Z
LAST-MODIFIED:20170829T071912Z
UID:5605-1507285800-1507289400@libriamocisp.it
SUMMARY:Proiezione del film Gli animali fantastici e dove trovarli\, di David Yates
DESCRIPTION:Proiezione del film Gli animali fantastici e dove trovarli\, dal libro di J. K. Rowling\, autrice della saga di Harry Potter. Per gli studenti delle scuole medie.
URL:https://libriamocisp.it/evento/proiezione-del-film-gli-animali-fantastici-e-dove-trovarli-2/
CATEGORIES:Libriamoci 2017
ATTACH;FMTTYPE=image/jpeg:https://libriamocisp.it/wp-content/uploads/2017/08/52789.jpg
END:VEVENT
END:VCALENDAR