BEGIN:VCALENDAR
VERSION:2.0
PRODID:-//Libriamoci La Spezia - ECPv6.8.0//NONSGML v1.0//EN
CALSCALE:GREGORIAN
METHOD:PUBLISH
X-WR-CALNAME:Libriamoci La Spezia
X-ORIGINAL-URL:https://libriamocisp.it
X-WR-CALDESC:Eventi per Libriamoci La Spezia
REFRESH-INTERVAL;VALUE=DURATION:PT1H
X-Robots-Tag:noindex
X-PUBLISHED-TTL:PT1H
BEGIN:VTIMEZONE
TZID:Europe/Rome
BEGIN:DAYLIGHT
TZOFFSETFROM:+0100
TZOFFSETTO:+0200
TZNAME:CEST
DTSTART:20110327T010000
END:DAYLIGHT
BEGIN:STANDARD
TZOFFSETFROM:+0200
TZOFFSETTO:+0100
TZNAME:CET
DTSTART:20111030T010000
END:STANDARD
END:VTIMEZONE
BEGIN:VEVENT
DTSTART;TZID=Europe/Rome:20111007T210000
DTEND;TZID=Europe/Rome:20111007T233000
DTSTAMP:20260417T203553
CREATED:20170510T091103Z
LAST-MODIFIED:20170510T091103Z
UID:407-1318021200-1318030200@libriamocisp.it
SUMMARY:Parole senza confini : Gabriella Ghermandi e Gabin Dabiré
DESCRIPTION:Data: 07/10/2011 Ora: 21:00 Luogo: Sala Dante \nRacconti e musiche dall’Etiopia \nDal romanzo “Regina di fiori e di perle”\, l’autrice Gabriella Ghermandi ha creato uno spettacolo di narrazione che\, intervallando letture e brani musicali\, ricostruisce la memoria del nostro passato coloniale\, rovesciando il mito dell’italianoquot;colonialista buono”. La parte musicale prevede canzoni e brani del musicista Gabin Dabiré e canti trazionali etiopi\, cantati dalla stessa autrice-narratrice. In collaborazione con il comitato cittadino Io non respingo.\nIngresso libero.
URL:https://libriamocisp.it/evento/parole-senza-confini-gabriella-ghermandi-e-gabin-dabire/
ATTACH;FMTTYPE=image/png:https://libriamocisp.it/wp-content/uploads/2017/02/eventi.png
END:VEVENT
END:VCALENDAR