BEGIN:VCALENDAR
VERSION:2.0
PRODID:-//Libriamoci La Spezia - ECPv6.8.0//NONSGML v1.0//EN
CALSCALE:GREGORIAN
METHOD:PUBLISH
X-WR-CALNAME:Libriamoci La Spezia
X-ORIGINAL-URL:https://libriamocisp.it
X-WR-CALDESC:Eventi per Libriamoci La Spezia
REFRESH-INTERVAL;VALUE=DURATION:PT1H
X-Robots-Tag:noindex
X-PUBLISHED-TTL:PT1H
BEGIN:VTIMEZONE
TZID:Europe/Rome
BEGIN:DAYLIGHT
TZOFFSETFROM:+0100
TZOFFSETTO:+0200
TZNAME:CEST
DTSTART:20210328T010000
END:DAYLIGHT
BEGIN:STANDARD
TZOFFSETFROM:+0200
TZOFFSETTO:+0100
TZNAME:CET
DTSTART:20211031T010000
END:STANDARD
END:VTIMEZONE
BEGIN:VEVENT
DTSTART;TZID=Europe/Rome:20211016T103000
DTEND;TZID=Europe/Rome:20211016T113000
DTSTAMP:20260424T004408
CREATED:20210915T104055Z
LAST-MODIFIED:20210915T104055Z
UID:5658-1634380200-1634383800@libriamocisp.it
SUMMARY:Nel buio ci vedo con le orecchie
DESCRIPTION:Laboratorio didattico\na cura di Sara Donati in collaborazione con La Città dei Bambini – Ludoteca civica \nLettura animata seguita dal laboratorio artistico-espressivo con il teatro delle ombre.\nBambini 4-6 anni \n  \n[timed-content-server hide=”2021-10-15 01:00:00″]PRENOTA IL TUO POSTO[/timed-content-server]
URL:https://libriamocisp.it/evento/nel-buio-ci-vedo-con-le-orecchie-2/
CATEGORIES:Libriamoci 2021,Programma 2021
ATTACH;FMTTYPE=:
END:VEVENT
END:VCALENDAR