BEGIN:VCALENDAR
VERSION:2.0
PRODID:-//Libriamoci La Spezia - ECPv6.8.0//NONSGML v1.0//EN
CALSCALE:GREGORIAN
METHOD:PUBLISH
X-WR-CALNAME:Libriamoci La Spezia
X-ORIGINAL-URL:https://libriamocisp.it
X-WR-CALDESC:Eventi per Libriamoci La Spezia
REFRESH-INTERVAL;VALUE=DURATION:PT1H
X-Robots-Tag:noindex
X-PUBLISHED-TTL:PT1H
BEGIN:VTIMEZONE
TZID:Europe/Rome
BEGIN:DAYLIGHT
TZOFFSETFROM:+0100
TZOFFSETTO:+0200
TZNAME:CEST
DTSTART:20170326T010000
END:DAYLIGHT
BEGIN:STANDARD
TZOFFSETFROM:+0200
TZOFFSETTO:+0100
TZNAME:CET
DTSTART:20171029T010000
END:STANDARD
END:VTIMEZONE
BEGIN:VEVENT
DTSTART;TZID=Europe/Rome:20171008T150000
DTEND;TZID=Europe/Rome:20171008T170000
DTSTAMP:20260424T183505
CREATED:20170905T133840Z
LAST-MODIFIED:20170905T133840Z
UID:5617-1507474800-1507482000@libriamocisp.it
SUMMARY:Letture d’autunno: colori\, sapori e profumi: laboratorio a cura dell'Associazione Merry Poppins
DESCRIPTION:Letture d’autunno: colori\, sapori e profumi: laboratorio a cura dell’Associazione Merry Poppins\, per bambini dai 5 ai 9 anni. \nE’ gradita la prenotazione; al termine\, merenda per i bambini \n 
URL:https://libriamocisp.it/evento/laboratorio-a-cura-di-associazione-merry-poppins-2/
CATEGORIES:Libriamoci 2017
ATTACH;FMTTYPE=image/jpeg:https://libriamocisp.it/wp-content/uploads/2017/09/logo-Merry-Poppins.jpg
END:VEVENT
END:VCALENDAR