BEGIN:VCALENDAR
VERSION:2.0
PRODID:-//Libriamoci La Spezia - ECPv6.8.0//NONSGML v1.0//EN
CALSCALE:GREGORIAN
METHOD:PUBLISH
X-WR-CALNAME:Libriamoci La Spezia
X-ORIGINAL-URL:https://libriamocisp.it
X-WR-CALDESC:Eventi per Libriamoci La Spezia
REFRESH-INTERVAL;VALUE=DURATION:PT1H
X-Robots-Tag:noindex
X-PUBLISHED-TTL:PT1H
BEGIN:VTIMEZONE
TZID:Europe/Rome
BEGIN:DAYLIGHT
TZOFFSETFROM:+0100
TZOFFSETTO:+0200
TZNAME:CEST
DTSTART:20110327T010000
END:DAYLIGHT
BEGIN:STANDARD
TZOFFSETFROM:+0200
TZOFFSETTO:+0100
TZNAME:CET
DTSTART:20111030T010000
END:STANDARD
END:VTIMEZONE
BEGIN:VEVENT
DTSTART;TZID=Europe/Rome:20111008T183000
DTEND;TZID=Europe/Rome:20111008T210000
DTSTAMP:20260424T165459
CREATED:20170510T090652Z
LAST-MODIFIED:20170510T090652Z
UID:398-1318098600-1318107600@libriamocisp.it
SUMMARY:Incontro con il fumettista Ausonia
DESCRIPTION:Data: 08/10/2011 Ora: 18:30 Luogo: Circo Arci Origami\, via Manzoni 39/41 \nvincitore del Premio Attilio Micheluzzi al Napoli Comicon (2011)\, migliore storyteller per “Interni” (Doubleshot\, 2008) \nAusonia\, nome per lungo tempo poco noto nella pur ristretta cerchia del fumetto d’autore italiano degli ultimi anni\, è venuto improvvisamente alla ribalta grazie ad una serie di pubblicazioni apparse in rapida successione fra il 2006 ed il 2007. Artista eclettico e completo lavora a Firenze presso una galleria d’arte e coltiva il fumetto come passione\, più da realizzare che da leggere.\nIl vero nome di Ausonia è Francesco Ciampi\, nato a Firenze nel gennaio 1973.
URL:https://libriamocisp.it/evento/incontro-con-il-fumettista-ausonia/
ATTACH;FMTTYPE=image/jpeg:https://libriamocisp.it/wp-content/uploads/2017/05/tm_F2_1316259852.jpg
END:VEVENT
END:VCALENDAR