BEGIN:VCALENDAR
VERSION:2.0
PRODID:-//Libriamoci La Spezia - ECPv6.8.0//NONSGML v1.0//EN
CALSCALE:GREGORIAN
METHOD:PUBLISH
X-WR-CALNAME:Libriamoci La Spezia
X-ORIGINAL-URL:https://libriamocisp.it
X-WR-CALDESC:Eventi per Libriamoci La Spezia
REFRESH-INTERVAL;VALUE=DURATION:PT1H
X-Robots-Tag:noindex
X-PUBLISHED-TTL:PT1H
BEGIN:VTIMEZONE
TZID:Europe/Rome
BEGIN:DAYLIGHT
TZOFFSETFROM:+0100
TZOFFSETTO:+0200
TZNAME:CEST
DTSTART:20170326T010000
END:DAYLIGHT
BEGIN:STANDARD
TZOFFSETFROM:+0200
TZOFFSETTO:+0100
TZNAME:CET
DTSTART:20171029T010000
END:STANDARD
END:VTIMEZONE
BEGIN:VEVENT
DTSTART;TZID=Europe/Rome:20171007T100000
DTEND;TZID=Europe/Rome:20171007T120000
DTSTAMP:20260417T053936
CREATED:20170829T082750Z
LAST-MODIFIED:20170829T082750Z
UID:5607-1507370400-1507377600@libriamocisp.it
SUMMARY:Giorgio Scaramuzzino\, “Io\, ovvero il ragazzo che voleva sognare”\, letture animate da Roald Dahl
DESCRIPTION:Giorgio Scaramuzzino\, “Io\, ovvero il ragazzo che voleva sognare” Letture animate dai libri di Roald Dahl\, accompagnata da una caccia al tesoro. Con un gioco molto semplice si dovrà indovinare il titolo delle opere che compongono la lettura. \nPer gli alunni delle scuole elementari \nE’ gradita la prenotazione; al termine\, merenda per i bambini
URL:https://libriamocisp.it/evento/giorgio-scaramuzzino-io-ovvero-il-ragazzo-che-voleva-sognare-letture-animate-da-roald-dahl-2/
CATEGORIES:Libriamoci 2017
ATTACH;FMTTYPE=image/jpeg:https://libriamocisp.it/wp-content/uploads/2017/08/foto6.jpg
END:VEVENT
END:VCALENDAR