BEGIN:VCALENDAR
VERSION:2.0
PRODID:-//Libriamoci La Spezia - ECPv6.8.0//NONSGML v1.0//EN
CALSCALE:GREGORIAN
METHOD:PUBLISH
X-WR-CALNAME:Libriamoci La Spezia
X-ORIGINAL-URL:https://libriamocisp.it
X-WR-CALDESC:Eventi per Libriamoci La Spezia
REFRESH-INTERVAL;VALUE=DURATION:PT1H
X-Robots-Tag:noindex
X-PUBLISHED-TTL:PT1H
BEGIN:VTIMEZONE
TZID:Europe/Rome
BEGIN:DAYLIGHT
TZOFFSETFROM:+0100
TZOFFSETTO:+0200
TZNAME:CEST
DTSTART:20140330T010000
END:DAYLIGHT
BEGIN:STANDARD
TZOFFSETFROM:+0200
TZOFFSETTO:+0100
TZNAME:CET
DTSTART:20141026T010000
END:STANDARD
BEGIN:DAYLIGHT
TZOFFSETFROM:+0100
TZOFFSETTO:+0200
TZNAME:CEST
DTSTART:20150329T010000
END:DAYLIGHT
BEGIN:STANDARD
TZOFFSETFROM:+0200
TZOFFSETTO:+0100
TZNAME:CET
DTSTART:20151025T010000
END:STANDARD
BEGIN:DAYLIGHT
TZOFFSETFROM:+0100
TZOFFSETTO:+0200
TZNAME:CEST
DTSTART:20160327T010000
END:DAYLIGHT
BEGIN:STANDARD
TZOFFSETFROM:+0200
TZOFFSETTO:+0100
TZNAME:CET
DTSTART:20161030T010000
END:STANDARD
BEGIN:DAYLIGHT
TZOFFSETFROM:+0100
TZOFFSETTO:+0200
TZNAME:CEST
DTSTART:20170326T010000
END:DAYLIGHT
BEGIN:STANDARD
TZOFFSETFROM:+0200
TZOFFSETTO:+0100
TZNAME:CET
DTSTART:20171029T010000
END:STANDARD
END:VTIMEZONE
BEGIN:VEVENT
DTSTART;TZID=Europe/Rome:20141003T210000
DTEND;TZID=Europe/Rome:20170217T174153
DTSTAMP:20260421T131624
CREATED:20170217T174153Z
LAST-MODIFIED:20170217T174153Z
UID:189-1412370000-1487353313@libriamocisp.it
SUMMARY:Elisabetta Moro\, La dieta mediterranea. Mito e storia di uno stile di vita\, Il Mulino 2014
DESCRIPTION:Risalente alla Magna Grecia\, scoperta dall’America\, dichiarata dall’Unesco patrimonio immateriale dell’Umanità\, la dieta mediterranea è più di un regime alimentare: in essa trovano espressione antiche tradizioni culturali e una lunga storia di convivialità. Se è il bestseller di Keys\, How to eat well and stay well. The Mediterranean way del 1975 a dare dignità scientifica e fama alla dieta mediterranea\, è vero che essa preesisteva\, come ricco sedimento di usanze e territorio\, di divieti religiosi ed etici\, di costumi antropologici\, che il libro ripercorre tutti restituendoci la consapevolezza di una parte importante della nostra cultura materiale.
URL:https://libriamocisp.it/evento/elisabetta-moro-la-dieta-mediterranea-mito-e-storia-di-uno-stile-di-vita-il-mulino-2014/
ATTACH;FMTTYPE=image/jpeg:https://libriamocisp.it/wp-content/uploads/2017/02/tm_F2_1407488052.jpg
END:VEVENT
END:VCALENDAR