BEGIN:VCALENDAR
VERSION:2.0
PRODID:-//Libriamoci La Spezia - ECPv6.8.0//NONSGML v1.0//EN
CALSCALE:GREGORIAN
METHOD:PUBLISH
X-WR-CALNAME:Libriamoci La Spezia
X-ORIGINAL-URL:https://libriamocisp.it
X-WR-CALDESC:Eventi per Libriamoci La Spezia
REFRESH-INTERVAL;VALUE=DURATION:PT1H
X-Robots-Tag:noindex
X-PUBLISHED-TTL:PT1H
BEGIN:VTIMEZONE
TZID:Europe/Rome
BEGIN:DAYLIGHT
TZOFFSETFROM:+0100
TZOFFSETTO:+0200
TZNAME:CEST
DTSTART:20150329T010000
END:DAYLIGHT
BEGIN:STANDARD
TZOFFSETFROM:+0200
TZOFFSETTO:+0100
TZNAME:CET
DTSTART:20151025T010000
END:STANDARD
BEGIN:DAYLIGHT
TZOFFSETFROM:+0100
TZOFFSETTO:+0200
TZNAME:CEST
DTSTART:20160327T010000
END:DAYLIGHT
BEGIN:STANDARD
TZOFFSETFROM:+0200
TZOFFSETTO:+0100
TZNAME:CET
DTSTART:20161030T010000
END:STANDARD
BEGIN:DAYLIGHT
TZOFFSETFROM:+0100
TZOFFSETTO:+0200
TZNAME:CEST
DTSTART:20170326T010000
END:DAYLIGHT
BEGIN:STANDARD
TZOFFSETFROM:+0200
TZOFFSETTO:+0100
TZNAME:CET
DTSTART:20171029T010000
END:STANDARD
END:VTIMEZONE
BEGIN:VEVENT
DTSTART;TZID=Europe/Rome:20151001T170000
DTEND;TZID=Europe/Rome:20170217T150800
DTSTAMP:20260421T102046
CREATED:20170217T150802Z
LAST-MODIFIED:20170217T150802Z
UID:5494-1443718800-1487344080@libriamocisp.it
SUMMARY:Apertura di Libriamoci: Ritmi di festa\, di Paolo Apolito
DESCRIPTION:RITMI DI FESTA\, Performance dell’autore Paolo Apolito\, ispirata al suo libro Ritmi di festa: corpo\, danza\, socialità\, Il Mulino\, 2014 \nPaolo Apolito è professore ordinario di antropologia culturale all’Università di Roma Tre. Si è occupato di antropologia simbolica e religiosa. Ha scritto numerosi libri alcuni dei quali tradotti all’estero. È stato presidente della Commissione di Abilitazione scientifica nazionale per professore di discipline antropologiche.E’ stato dal 1995 al 2000 consulente della trasmissione RAI-TV 2 “Misteri” e collabora alla pagina culturale de Il Mattino di Napoli. Ha ideato e organizzato per tredici anni\, dal 1995 al 2008\, Campusinfesta\, la festa di chiusura delle attività didattiche annuali dell’Università degli studi di Salerno. È stato presidente del Comitato nazionale per la valorizzazione delle tradizioni culturali italiane\, del Ministero per i Beni e letà culturali ed è membro del Comitato scientifico della Rete italiana di cultura popolare. E’ consulente per l’Italia di “Imaginarius. Festival Internacional de Teatro de Rua”\, Santa Maria da Feira\, Portogallo. \nIl monologo è ispirato al libro “Ritmi di festa. Corpo\, danza\, socialità” (Il Mulino 2014). Da questo trae i temi principali e li trasforma in narrazione e teatro. Lo sviluppo della performance alterna drammatizzazioni\, narrazioni e riflessioni tematiche. A partire dal racconto e dalla messa in scena di piccole “esplosioni” di festeggiamenti in situazioni umane estreme\, si mette a fuoco l’universalità della musicalità comunicativa\, intesa come inconsapevole legame tra gli esseri umani che stanno vicini. Appaiando ciò che è apparentemente lontano\, cioè esperienze umane fuori del comune ed esperienze correnti\, si mettono in luce le filigrane antropologicamente rilevanti del ritmo\, della festa\, della musicalità\, della mimesi.
URL:https://libriamocisp.it/evento/apertura-di-libriamoci-ritmi-di-festa-di-paolo-apolito-2/
END:VEVENT
END:VCALENDAR