BEGIN:VCALENDAR
VERSION:2.0
PRODID:-//Libriamoci La Spezia - ECPv6.8.0//NONSGML v1.0//EN
CALSCALE:GREGORIAN
METHOD:PUBLISH
X-WR-CALNAME:Libriamoci La Spezia
X-ORIGINAL-URL:https://libriamocisp.it
X-WR-CALDESC:Eventi per Libriamoci La Spezia
REFRESH-INTERVAL;VALUE=DURATION:PT1H
X-Robots-Tag:noindex
X-PUBLISHED-TTL:PT1H
BEGIN:VTIMEZONE
TZID:Europe/Rome
BEGIN:DAYLIGHT
TZOFFSETFROM:+0100
TZOFFSETTO:+0200
TZNAME:CEST
DTSTART:20110327T010000
END:DAYLIGHT
BEGIN:STANDARD
TZOFFSETFROM:+0200
TZOFFSETTO:+0100
TZNAME:CET
DTSTART:20111030T010000
END:STANDARD
END:VTIMEZONE
BEGIN:VEVENT
DTSTART;TZID=Europe/Rome:20111001T173000
DTEND;TZID=Europe/Rome:20111001T193000
DTSTAMP:20260420T072259
CREATED:20170510T110205Z
LAST-MODIFIED:20170510T110205Z
UID:479-1317490200-1317497400@libriamocisp.it
SUMMARY:Apertura di Libriamoci: Marco Buticchi in anteprima nazionale
DESCRIPTION:Presentazione del nuovo libro “La voce del destino” \nIn anteprima nazionale\, lo scrittore Marco Buticchi presenta il suo nuovo romanzo edito da Longanesi: La voce del destino.\nOswald Breil salva un’anziana senzatetto da un tentativo di rapimento. La donna racconterà la storia del suo misterioso passato\, fatto di platee in delirio per la “voce più bella di sempre”. L’anziana clochard è infatti il rande soprano Luce De Bartolo\, costretta a una vita in fuga dai demoni che la perseguitano\, fin da quando\, ragazza\, ha intrecciato in Argentina la sua vita con quella di Evita Perón. E proprio da Evita\, Luce sarà resa partecipe di un segreto terribile che riguarda i nazisti fuggiti in Argentina dopo la caduta del Terzo Reich… \nSegue cocktail
URL:https://libriamocisp.it/evento/apertura-di-libriamoci-marco-buticchi-in-anteprima-nazionale/
ATTACH;FMTTYPE=image/jpeg:https://libriamocisp.it/wp-content/uploads/2017/05/tm_F2_1315815366.jpg
END:VEVENT
END:VCALENDAR