BEGIN:VCALENDAR
VERSION:2.0
PRODID:-//Libriamoci La Spezia - ECPv6.8.0//NONSGML v1.0//EN
CALSCALE:GREGORIAN
METHOD:PUBLISH
X-WR-CALNAME:Libriamoci La Spezia
X-ORIGINAL-URL:https://libriamocisp.it
X-WR-CALDESC:Eventi per Libriamoci La Spezia
REFRESH-INTERVAL;VALUE=DURATION:PT1H
X-Robots-Tag:noindex
X-PUBLISHED-TTL:PT1H
BEGIN:VTIMEZONE
TZID:Europe/Rome
BEGIN:DAYLIGHT
TZOFFSETFROM:+0100
TZOFFSETTO:+0200
TZNAME:CEST
DTSTART:20150329T010000
END:DAYLIGHT
BEGIN:STANDARD
TZOFFSETFROM:+0200
TZOFFSETTO:+0100
TZNAME:CET
DTSTART:20151025T010000
END:STANDARD
BEGIN:DAYLIGHT
TZOFFSETFROM:+0100
TZOFFSETTO:+0200
TZNAME:CEST
DTSTART:20160327T010000
END:DAYLIGHT
BEGIN:STANDARD
TZOFFSETFROM:+0200
TZOFFSETTO:+0100
TZNAME:CET
DTSTART:20161030T010000
END:STANDARD
BEGIN:DAYLIGHT
TZOFFSETFROM:+0100
TZOFFSETTO:+0200
TZNAME:CEST
DTSTART:20170326T010000
END:DAYLIGHT
BEGIN:STANDARD
TZOFFSETFROM:+0200
TZOFFSETTO:+0100
TZNAME:CET
DTSTART:20171029T010000
END:STANDARD
END:VTIMEZONE
BEGIN:VEVENT
DTSTART;TZID=Europe/Rome:20151004T170000
DTEND;TZID=Europe/Rome:20170209T173000
DTSTAMP:20260417T134648
CREATED:20170209T173026Z
LAST-MODIFIED:20170209T173026Z
UID:93-1443978000-1486661400@libriamocisp.it
SUMMARY:Alice Basso\, L'imprevedibile piano della scrittrice senza nome\, Garzanti 2015
DESCRIPTION:La protagonista del romanzo\, Vani\, dietro un ciuffo di capelli neri e vestiti altrettanto scuri\, nasconde un viso da ragazzina e una innata antipatia verso il resto del mondo. Eppure Vani ha un dono speciale: coglie l’essenza di una persona da piccoli indizi e immedesimandosi\, riesce a pensare come avrebbe fatto lei e su queste caratteristiche si basa il suo mestiere di ghostwriter per un’importante casa editrice. Scrive libri per altri. L’autore le consegna la sua idea\, e lei riempie le pagine delle stesse parole che lui avrebbe utilizzato. Un lavoro svolto nell’ombra: Vani preferisce non incontrare gli scrittori per cui lavora.\nFino al giorno in cui il suo editore non la obbliga a fare due chiacchiere con Riccardo\, autore di successo in preda all’ossessione della pagina bianca. I due si capiscono al volo e tra loro nasce una sintonia inaspettata che Vani non credeva più possibile con nessuno… Il lato giallo del romanzo entra in scena quando un’autrice di libri per cui sta lavorando sparisce e la polizia vuole la collaborazione di Vani per risolvere il mistero di questo rapimento. C’è un commissario che ha riconosciuto il suo talento unico e sa che solo lei può entrare nella mente del sequestratore.\nCome nel più classico dei romanzi\, Vani ha davanti a sé molti ostacoli. E non c’è nessuno a scrivere la storia della sua vita al posto suo: dovrà scegliere da sola ogni singola parola\, gesto ed emozione.\nL’ imprevedibile piano della scrittrice senza nome è il sorprendente esordio di Alice Basso. Una voce nuova\, unica\, esilarante. Un tributo al mondo dei libri\, all’amore che non ha regole e ai misteri che solo l’intuito può risolvere. Una protagonista indimenticabile che vi dispiacerà lasciare alla fine del romanzo. \nPresenta Gabriella Tartarini \n(In caso di pioggia l’incontro si terrà nel ridotto del Teatro civico)
URL:https://libriamocisp.it/evento/alice-basso-limprevedibile-piano-della-scrittrice-senza-nome-garzanti-2015/
LOCATION:Artist Melissa Kitty Jarram is updating Greek myths for 2018
ATTACH;FMTTYPE=image/png:https://libriamocisp.it/wp-content/uploads/2017/02/eventi.png
END:VEVENT
END:VCALENDAR