BEGIN:VCALENDAR
VERSION:2.0
PRODID:-//Libriamoci La Spezia - ECPv6.8.0//NONSGML v1.0//EN
CALSCALE:GREGORIAN
METHOD:PUBLISH
X-WR-CALNAME:Libriamoci La Spezia
X-ORIGINAL-URL:https://libriamocisp.it
X-WR-CALDESC:Eventi per Libriamoci La Spezia
REFRESH-INTERVAL;VALUE=DURATION:PT1H
X-Robots-Tag:noindex
X-PUBLISHED-TTL:PT1H
BEGIN:VTIMEZONE
TZID:Europe/Rome
BEGIN:DAYLIGHT
TZOFFSETFROM:+0100
TZOFFSETTO:+0200
TZNAME:CEST
DTSTART:20110327T010000
END:DAYLIGHT
BEGIN:STANDARD
TZOFFSETFROM:+0200
TZOFFSETTO:+0100
TZNAME:CET
DTSTART:20111030T010000
END:STANDARD
END:VTIMEZONE
BEGIN:VEVENT
DTSTART;TZID=Europe/Rome:20111004T080000
DTEND;TZID=Europe/Rome:20111004T170000
DTSTAMP:20260420T024836
CREATED:20170510T104439Z
LAST-MODIFIED:20170510T104439Z
UID:464-1317715200-1317747600@libriamocisp.it
SUMMARY:Alberto Scaramuccia : Turismo questo sconosciuto. Spezia 1865-1885
DESCRIPTION:L’ex-sindaco della Spezia\, Giorgio Pagano presenta l’ultimo libro di Alberto Scaramuccia. \nTurismo\, questo sconosciuto. Spezia 1865-1885 (Edizioni Cinque terre\, 2011). Il volume affronta dal punto di vista storico l’argomento della nascita e sviluppo del turismo nel nostro Golfo\, nella seconda metà dell’800. A partire dal 1853\, anno della visita della famiglia reale\, sino allo scoppio dell’epidemia del colera nel 1884 che segna la fine del periodo d’oro del turismo ottocentesco spezzino. \nDa allora la città non seppe cogliere adeguatamente opportunità legata alla presenza di facoltosi ed illustri visitatori\, che venivano ospitati nei più prestigiosi e raffinati alberghi della zona\, come ci testimonia la storia del Croce di Malta. Con la nascita dell’Arsenale militare\, e con il sorgere delle industrie legate all’indotto del porto commerciale\, la città mutò radicalmente questa vocazione naturale legata alle bellezze paesaggistiche del Golfo dei Poeti. Seguirà degustazione.
URL:https://libriamocisp.it/evento/alberto-scaramuccia-turismo-questo-sconosciuto-spezia-1865-1885/
ATTACH;FMTTYPE=image/jpeg:https://libriamocisp.it/wp-content/uploads/2017/05/tm_F2_1315982903.jpg
END:VEVENT
END:VCALENDAR